BEGIN:VCALENDAR
VERSION:2.0
PRODID:-//ChamberMaster//Event Calendar 2.0//EN
METHOD:PUBLISH
X-PUBLISHED-TTL:P1H
REFRESH-INTERVAL:P1H
CALSCALE:GREGORIAN
BEGIN:VTIMEZONE
TZID:America/New_York
BEGIN:DAYLIGHT
RRULE:FREQ=YEARLY;BYMONTH=3;BYDAY=2SU
DTSTART:20070101T000000
TZOFFSETFROM:-0500
TZOFFSETTO:-0400
TZNAME:Eastern Daylight Time
END:DAYLIGHT
BEGIN:STANDARD
RRULE:FREQ=YEARLY;BYMONTH=11;BYDAY=1SU
DTSTART:20070101T000000
TZOFFSETFROM:-0400
TZOFFSETTO:-0500
TZNAME:Eastern Standard Time
END:STANDARD
END:VTIMEZONE
BEGIN:VEVENT
DTSTART;TZID=America/New_York:20260627T100000
DTEND;TZID=America/New_York:20260627T130000
X-MICROSOFT-CDO-ALLDAYEVENT:FALSE
SUMMARY:Workforce Development & Community Event
DESCRIPTION:Workforce Development & Community Event\nHosted by Crystal's Career Closet by Sisters In Christ📅 Saturday\, June 27\, 2026\n⏰ 10:00 AM   1:00 PM\n📍 Louisa Middle SchoolJoin us for a community event focused on workforce development\, career readiness\, and personal empowerment. This event connects individuals with local resources\, professional development support\, and confidence-building services to help take the next step forward.What to Expect:\n🔹 Workforce and community resource partners\n🔹 Career readiness and professional development support\n🔹 Confidence-building clothing and services\n🔹 Opportunities to connect with local organizationsOpen to the community and designed to support individuals at any stage whether entering the workforce\, exploring new opportunities\, or building skills.Coordinated by:\nCrystal Napier\nKecie Harris\nEvangelist Carson Lewis
X-ALT-DESC;FMTTYPE=text/html:<!DOCTYPE html><html><head><title></title></head><body aria-disabled="false" data-gr-ext-installed="" data-new-gr-c-s-check-loaded="14.1136.0" data-new-gr-c-s-loaded="14.1136.0"><p data-end="194" data-start="90"><strong data-end="133" data-start="90" fr-original-style="" style="font-weight: 700\;">Workforce Development &amp\; Community Event</strong><br data-start="133" data-end="136">Hosted by <em data-end="192" data-start="146">Crystal&rsquo\;s Career Closet by Sisters In Christ</em></p><p data-end="283" data-start="196">📅 <strong data-end="226" data-start="199" fr-original-style="" style="font-weight: 700\;">Saturday\, June 27\, 2026</strong><br data-start="226" data-end="229">⏰ <strong data-end="253" data-start="231" fr-original-style="" style="font-weight: 700\;">10:00 AM &ndash\; 1:00 PM</strong><br data-start="253" data-end="256">📍 <strong data-end="283" data-start="259" fr-original-style="" style="font-weight: 700\;">Louisa Middle School</strong></p><p data-end="549" data-start="285">Join us for a community event focused on workforce development\, career readiness\, and personal empowerment. This event connects individuals with local resources\, professional development support\, and confidence-building services to help take the next step forward.</p><p data-end="780" data-start="551"><strong data-end="570" data-start="551" fr-original-style="" style="font-weight: 700\;">What to Expect:</strong><br data-start="570" data-end="573">🔹 Workforce and community resource partners<br data-start="617" data-end="620">🔹 Career readiness and professional development support<br data-start="676" data-end="679">🔹 Confidence-building clothing and services<br data-start="723" data-end="726">🔹 Opportunities to connect with local organizations</p><p data-end="933" data-start="782">Open to the community and designed to support individuals at any stage&mdash\;whether entering the workforce\, exploring new opportunities\, or building skills.</p><p data-end="1014" data-start="935"><strong data-end="954" data-start="935" fr-original-style="" style="font-weight: 700\;">Coordinated by:</strong><br data-start="954" data-end="957">Crystal Napier<br data-start="971" data-end="974">Kecie Harris<br data-start="986" data-end="989">Evangelist Carson Lewis</p></body></html>
LOCATION:1009 Davis Hwy Mineral VA 23117
UID:e.490.1448258
SEQUENCE:3
DTSTAMP:20260422T043412Z
URL:https://business.louisachamber.org/eventcalendar/Details/workforce-development-community-event-1715259?sourceTypeId=Hub
END:VEVENT
END:VCALENDAR
